BEGIN:VCALENDAR
VERSION:2.0
PRODID:-//Local 7 - ECPv6.15.18//NONSGML v1.0//EN
CALSCALE:GREGORIAN
METHOD:PUBLISH
X-ORIGINAL-URL:https://www.iueclocal7.org
X-WR-CALDESC:Events for Local 7
REFRESH-INTERVAL;VALUE=DURATION:PT1H
X-Robots-Tag:noindex
X-PUBLISHED-TTL:PT1H
BEGIN:VTIMEZONE
TZID:UTC
BEGIN:STANDARD
TZOFFSETFROM:+0000
TZOFFSETTO:+0000
TZNAME:UTC
DTSTART:20240101T000000
END:STANDARD
END:VTIMEZONE
BEGIN:VEVENT
DTSTART;VALUE=DATE:20250505
DTEND;VALUE=DATE:20250510
DTSTAMP:20260421T015657
CREATED:20250116T093722Z
LAST-MODIFIED:20250123T104057Z
UID:10000391-1746428400-1746773999@www.iueclocal7.org
SUMMARY:QEITF Certification Training
DESCRIPTION:
URL:https://www.iueclocal7.org/event/qeitf-certification-training-3/
CATEGORIES:default
END:VEVENT
END:VCALENDAR