BEGIN:VCALENDAR
VERSION:2.0
PRODID:-//Local 7 - ECPv6.15.18//NONSGML v1.0//EN
CALSCALE:GREGORIAN
METHOD:PUBLISH
X-WR-CALNAME:Local 7
X-ORIGINAL-URL:https://www.iueclocal7.org
X-WR-CALDESC:Events for Local 7
REFRESH-INTERVAL;VALUE=DURATION:PT1H
X-Robots-Tag:noindex
X-PUBLISHED-TTL:PT1H
BEGIN:VTIMEZONE
TZID:UTC
BEGIN:STANDARD
TZOFFSETFROM:+0000
TZOFFSETTO:+0000
TZNAME:UTC
DTSTART:20240101T000000
END:STANDARD
END:VTIMEZONE
BEGIN:VEVENT
DTSTART;VALUE=DATE:20250628
DTEND;VALUE=DATE:20250703
DTSTAMP:20260421T004020
CREATED:20250116T094040Z
LAST-MODIFIED:20250116T094040Z
UID:10000395-1751094000-1751439599@www.iueclocal7.org
SUMMARY:BOMA 2025 International Conference & Expo
DESCRIPTION:
URL:https://www.iueclocal7.org/event/boma-2025-international-conference-expo/
END:VEVENT
END:VCALENDAR