BEGIN:VCALENDAR
VERSION:2.0
PRODID:-//Local 7 - ECPv6.15.18//NONSGML v1.0//EN
CALSCALE:GREGORIAN
METHOD:PUBLISH
X-WR-CALNAME:Local 7
X-ORIGINAL-URL:https://www.iueclocal7.org
X-WR-CALDESC:Events for Local 7
REFRESH-INTERVAL;VALUE=DURATION:PT1H
X-Robots-Tag:noindex
X-PUBLISHED-TTL:PT1H
BEGIN:VTIMEZONE
TZID:UTC
BEGIN:STANDARD
TZOFFSETFROM:+0000
TZOFFSETTO:+0000
TZNAME:UTC
DTSTART:20230101T000000
END:STANDARD
END:VTIMEZONE
BEGIN:VEVENT
DTSTART;TZID=UTC:20250311T180000
DTEND;TZID=UTC:20250311T200000
DTSTAMP:20260420T233110
CREATED:20240613T121504Z
LAST-MODIFIED:20241203T085609Z
UID:10000376-1741716000-1741723200@www.iueclocal7.org
SUMMARY:Executive Board Meeting
DESCRIPTION:
URL:https://www.iueclocal7.org/event/executive-board-meeting-2-2/2025-03-11/
LOCATION:Carney Rod & Gun Club\, 9721 Hilltop Drive\, Baltimore\, MD\, 21234\, United States
CATEGORIES:default
END:VEVENT
BEGIN:VEVENT
DTSTART;VALUE=DATE:20250303
DTEND;VALUE=DATE:20250307
DTSTAMP:20260420T233110
CREATED:20250116T093452Z
LAST-MODIFIED:20250116T093452Z
UID:10000388-1740985200-1741244399@www.iueclocal7.org
SUMMARY:Operations\, Maintenance & Safety Conference 2025
DESCRIPTION:
URL:https://www.iueclocal7.org/event/operations-maintenance-safety-conference-2025/
LOCATION:MD
END:VEVENT
BEGIN:VEVENT
DTSTART;TZID=UTC:20250219T070000
DTEND;TZID=UTC:20250219T170000
DTSTAMP:20260420T233110
CREATED:20250123T090830Z
LAST-MODIFIED:20250123T090830Z
UID:10000396-1739948400-1739984400@www.iueclocal7.org
SUMMARY:Joint Apprenticeship Committe
DESCRIPTION:
URL:https://www.iueclocal7.org/event/joint-apprenticeship-committe-3/
LOCATION:MD
CATEGORIES:default
END:VEVENT
BEGIN:VEVENT
DTSTART;TZID=UTC:20250217T080000
DTEND;TZID=UTC:20250220T170000
DTSTAMP:20260420T233110
CREATED:20250116T093339Z
LAST-MODIFIED:20250116T093339Z
UID:10000387-1739779200-1740070800@www.iueclocal7.org
SUMMARY:QEITF Certification Training
DESCRIPTION:
URL:https://www.iueclocal7.org/event/qeitf-certification-training-2/
LOCATION:MD
END:VEVENT
BEGIN:VEVENT
DTSTART;TZID=UTC:20250213T180000
DTEND;TZID=UTC:20250213T200000
DTSTAMP:20260420T233110
CREATED:20240730T162723Z
LAST-MODIFIED:20250929T030414Z
UID:10000363-1739469600-1739476800@www.iueclocal7.org
SUMMARY:Union Meeting
DESCRIPTION:
URL:https://www.iueclocal7.org/event/union-meeting-2/2025-02-13/
LOCATION:Carney Rod & Gun Club\, 9721 Hilltop Drive\, Baltimore\, MD\, 21234\, United States
CATEGORIES:default
END:VEVENT
BEGIN:VEVENT
DTSTART;TZID=UTC:20250211T180000
DTEND;TZID=UTC:20250211T200000
DTSTAMP:20260420T233110
CREATED:20240613T121504Z
LAST-MODIFIED:20241203T085609Z
UID:10000375-1739296800-1739304000@www.iueclocal7.org
SUMMARY:Executive Board Meeting
DESCRIPTION:
URL:https://www.iueclocal7.org/event/executive-board-meeting-2-2/2025-02-11/
LOCATION:Carney Rod & Gun Club\, 9721 Hilltop Drive\, Baltimore\, MD\, 21234\, United States
CATEGORIES:default
END:VEVENT
BEGIN:VEVENT
DTSTART;TZID=UTC:20250120T080000
DTEND;TZID=UTC:20250123T170000
DTSTAMP:20260420T233110
CREATED:20250116T092647Z
LAST-MODIFIED:20250123T103707Z
UID:10000386-1737360000-1737651600@www.iueclocal7.org
SUMMARY:QEITF Certification Training
DESCRIPTION:
URL:https://www.iueclocal7.org/event/qeitf-certification-training/
LOCATION:MD
CATEGORIES:default
END:VEVENT
BEGIN:VEVENT
DTSTART;TZID=UTC:20250114T180000
DTEND;TZID=UTC:20250114T200000
DTSTAMP:20260420T233110
CREATED:20240613T121504Z
LAST-MODIFIED:20241203T085609Z
UID:10000374-1736877600-1736884800@www.iueclocal7.org
SUMMARY:Executive Board Meeting
DESCRIPTION:
URL:https://www.iueclocal7.org/event/executive-board-meeting-2-2/2025-01-14/
LOCATION:Carney Rod & Gun Club\, 9721 Hilltop Drive\, Baltimore\, MD\, 21234\, United States
CATEGORIES:default
END:VEVENT
BEGIN:VEVENT
DTSTART;TZID=UTC:20250109T180000
DTEND;TZID=UTC:20250109T200000
DTSTAMP:20260420T233110
CREATED:20240730T162723Z
LAST-MODIFIED:20250929T030414Z
UID:10000340-1736445600-1736452800@www.iueclocal7.org
SUMMARY:Union Meeting
DESCRIPTION:
URL:https://www.iueclocal7.org/event/union-meeting-2/2025-01-09/
LOCATION:Carney Rod & Gun Club\, 9721 Hilltop Drive\, Baltimore\, MD\, 21234\, United States
CATEGORIES:default
END:VEVENT
BEGIN:VEVENT
DTSTART;TZID=UTC:20250108T070000
DTEND;TZID=UTC:20250108T170000
DTSTAMP:20260420T233110
CREATED:20240726T143725Z
LAST-MODIFIED:20241203T092028Z
UID:10000328-1736319600-1736355600@www.iueclocal7.org
SUMMARY:Joint Apprenticeship Committe
DESCRIPTION:
URL:https://www.iueclocal7.org/event/joint-apprenticeship-committe/2025-01-08/
LOCATION:Union Hall on Georgetown Rd
CATEGORIES:default
END:VEVENT
BEGIN:VEVENT
DTSTART;TZID=UTC:20241212T180000
DTEND;TZID=UTC:20241212T200000
DTSTAMP:20260420T233110
CREATED:20240730T162723Z
LAST-MODIFIED:20250929T030414Z
UID:10000327-1734026400-1734033600@www.iueclocal7.org
SUMMARY:Union Meeting
DESCRIPTION:
URL:https://www.iueclocal7.org/event/union-meeting-2/2024-12-12/
LOCATION:Carney Rod & Gun Club\, 9721 Hilltop Drive\, Baltimore\, MD\, 21234\, United States
CATEGORIES:default
END:VEVENT
BEGIN:VEVENT
DTSTART;TZID=UTC:20241211T070000
DTEND;TZID=UTC:20241211T170000
DTSTAMP:20260420T233110
CREATED:20240726T143725Z
LAST-MODIFIED:20241203T092028Z
UID:10000268-1733900400-1733936400@www.iueclocal7.org
SUMMARY:Joint Apprenticeship Committe
DESCRIPTION:
URL:https://www.iueclocal7.org/event/joint-apprenticeship-committe/2024-12-11/
LOCATION:Union Hall on Georgetown Rd
CATEGORIES:default
END:VEVENT
BEGIN:VEVENT
DTSTART;TZID=UTC:20241210T180000
DTEND;TZID=UTC:20241210T200000
DTSTAMP:20260420T233110
CREATED:20240613T121504Z
LAST-MODIFIED:20241203T085609Z
UID:10000140-1733853600-1733860800@www.iueclocal7.org
SUMMARY:Executive Board Meeting
DESCRIPTION:
URL:https://www.iueclocal7.org/event/executive-board-meeting-2-2/2024-12-10/
LOCATION:Carney Rod & Gun Club\, 9721 Hilltop Drive\, Baltimore\, MD\, 21234\, United States
CATEGORIES:default
END:VEVENT
BEGIN:VEVENT
DTSTART;TZID=UTC:20241114T180000
DTEND;TZID=UTC:20241114T200000
DTSTAMP:20260420T233110
CREATED:20240730T162723Z
LAST-MODIFIED:20250929T030414Z
UID:10000326-1731607200-1731614400@www.iueclocal7.org
SUMMARY:Union Meeting
DESCRIPTION:
URL:https://www.iueclocal7.org/event/union-meeting-2/2024-11-14/
LOCATION:Carney Rod & Gun Club\, 9721 Hilltop Drive\, Baltimore\, MD\, 21234\, United States
CATEGORIES:default
END:VEVENT
BEGIN:VEVENT
DTSTART;TZID=UTC:20241113T070000
DTEND;TZID=UTC:20241113T170000
DTSTAMP:20260420T233110
CREATED:20240726T143725Z
LAST-MODIFIED:20241203T092028Z
UID:10000267-1731481200-1731517200@www.iueclocal7.org
SUMMARY:Joint Apprenticeship Committe
DESCRIPTION:
URL:https://www.iueclocal7.org/event/joint-apprenticeship-committe/2024-11-13/
LOCATION:Union Hall on Georgetown Rd
CATEGORIES:default
END:VEVENT
BEGIN:VEVENT
DTSTART;TZID=UTC:20241112T180000
DTEND;TZID=UTC:20241112T200000
DTSTAMP:20260420T233110
CREATED:20240613T121504Z
LAST-MODIFIED:20241203T085609Z
UID:10000134-1731434400-1731441600@www.iueclocal7.org
SUMMARY:Executive Board Meeting
DESCRIPTION:
URL:https://www.iueclocal7.org/event/executive-board-meeting-2-2/2024-11-12/
LOCATION:Carney Rod & Gun Club\, 9721 Hilltop Drive\, Baltimore\, MD\, 21234\, United States
CATEGORIES:default
END:VEVENT
BEGIN:VEVENT
DTSTART;TZID=UTC:20241010T180000
DTEND;TZID=UTC:20241010T200000
DTSTAMP:20260420T233110
CREATED:20240730T162723Z
LAST-MODIFIED:20250929T030414Z
UID:10000325-1728583200-1728590400@www.iueclocal7.org
SUMMARY:Union Meeting
DESCRIPTION:
URL:https://www.iueclocal7.org/event/union-meeting-2/2024-10-10/
LOCATION:Carney Rod & Gun Club\, 9721 Hilltop Drive\, Baltimore\, MD\, 21234\, United States
CATEGORIES:default
END:VEVENT
BEGIN:VEVENT
DTSTART;TZID=UTC:20241009T070000
DTEND;TZID=UTC:20241009T170000
DTSTAMP:20260420T233110
CREATED:20240726T143725Z
LAST-MODIFIED:20241203T092028Z
UID:10000266-1728457200-1728493200@www.iueclocal7.org
SUMMARY:Joint Apprenticeship Committe
DESCRIPTION:
URL:https://www.iueclocal7.org/event/joint-apprenticeship-committe/2024-10-09/
LOCATION:Union Hall on Georgetown Rd
CATEGORIES:default
END:VEVENT
BEGIN:VEVENT
DTSTART;TZID=UTC:20241008T180000
DTEND;TZID=UTC:20241008T200000
DTSTAMP:20260420T233110
CREATED:20240613T121504Z
LAST-MODIFIED:20241203T085609Z
UID:10000133-1728410400-1728417600@www.iueclocal7.org
SUMMARY:Executive Board Meeting
DESCRIPTION:
URL:https://www.iueclocal7.org/event/executive-board-meeting-2-2/2024-10-08/
LOCATION:Carney Rod & Gun Club\, 9721 Hilltop Drive\, Baltimore\, MD\, 21234\, United States
CATEGORIES:default
END:VEVENT
BEGIN:VEVENT
DTSTART;TZID=UTC:20240912T180000
DTEND;TZID=UTC:20240912T200000
DTSTAMP:20260420T233110
CREATED:20240730T162723Z
LAST-MODIFIED:20250929T030414Z
UID:10000324-1726164000-1726171200@www.iueclocal7.org
SUMMARY:Union Meeting
DESCRIPTION:
URL:https://www.iueclocal7.org/event/union-meeting-2/2024-09-12/
LOCATION:Carney Rod & Gun Club\, 9721 Hilltop Drive\, Baltimore\, MD\, 21234\, United States
CATEGORIES:default
END:VEVENT
BEGIN:VEVENT
DTSTART;TZID=UTC:20240911T070000
DTEND;TZID=UTC:20240911T170000
DTSTAMP:20260420T233110
CREATED:20240726T143725Z
LAST-MODIFIED:20241203T092028Z
UID:10000265-1726038000-1726074000@www.iueclocal7.org
SUMMARY:Joint Apprenticeship Committe
DESCRIPTION:
URL:https://www.iueclocal7.org/event/joint-apprenticeship-committe/2024-09-11/
LOCATION:Union Hall on Georgetown Rd
CATEGORIES:default
END:VEVENT
BEGIN:VEVENT
DTSTART;TZID=UTC:20240910T180000
DTEND;TZID=UTC:20240910T200000
DTSTAMP:20260420T233110
CREATED:20240613T121504Z
LAST-MODIFIED:20241203T085609Z
UID:10000132-1725991200-1725998400@www.iueclocal7.org
SUMMARY:Executive Board Meeting
DESCRIPTION:
URL:https://www.iueclocal7.org/event/executive-board-meeting-2-2/2024-09-10/
LOCATION:Carney Rod & Gun Club\, 9721 Hilltop Drive\, Baltimore\, MD\, 21234\, United States
CATEGORIES:default
END:VEVENT
BEGIN:VEVENT
DTSTART;TZID=UTC:20240814T070000
DTEND;TZID=UTC:20240814T170000
DTSTAMP:20260420T233110
CREATED:20240726T143725Z
LAST-MODIFIED:20241203T092028Z
UID:10000264-1723618800-1723654800@www.iueclocal7.org
SUMMARY:Joint Apprenticeship Committe
DESCRIPTION:
URL:https://www.iueclocal7.org/event/joint-apprenticeship-committe/2024-08-14/
LOCATION:Union Hall on Georgetown Rd
CATEGORIES:default
END:VEVENT
BEGIN:VEVENT
DTSTART;TZID=UTC:20240808T180000
DTEND;TZID=UTC:20240808T200000
DTSTAMP:20260420T233110
CREATED:20240730T162723Z
LAST-MODIFIED:20250929T030414Z
UID:10000135-1723140000-1723147200@www.iueclocal7.org
SUMMARY:Union Meeting
DESCRIPTION:
URL:https://www.iueclocal7.org/event/union-meeting-2/2024-08-08/
LOCATION:Carney Rod & Gun Club\, 9721 Hilltop Drive\, Baltimore\, MD\, 21234\, United States
CATEGORIES:default
END:VEVENT
BEGIN:VEVENT
DTSTART;TZID=UTC:20240709T180000
DTEND;TZID=UTC:20240709T200000
DTSTAMP:20260420T233110
CREATED:20240613T121504Z
LAST-MODIFIED:20241203T085609Z
UID:10000130-1720548000-1720555200@www.iueclocal7.org
SUMMARY:Executive Board Meeting
DESCRIPTION:
URL:https://www.iueclocal7.org/event/executive-board-meeting-2-2/2024-07-09/
LOCATION:Carney Rod & Gun Club\, 9721 Hilltop Drive\, Baltimore\, MD\, 21234\, United States
CATEGORIES:default
END:VEVENT
END:VCALENDAR