BEGIN:VCALENDAR
VERSION:2.0
PRODID:-//Local 7 - ECPv6.15.18//NONSGML v1.0//EN
CALSCALE:GREGORIAN
METHOD:PUBLISH
X-WR-CALNAME:Local 7
X-ORIGINAL-URL:https://www.iueclocal7.org
X-WR-CALDESC:Events for Local 7
REFRESH-INTERVAL;VALUE=DURATION:PT1H
X-Robots-Tag:noindex
X-PUBLISHED-TTL:PT1H
BEGIN:VTIMEZONE
TZID:UTC
BEGIN:STANDARD
TZOFFSETFROM:+0000
TZOFFSETTO:+0000
TZNAME:UTC
DTSTART:20230101T000000
END:STANDARD
END:VTIMEZONE
BEGIN:VEVENT
DTSTART;TZID=UTC:20240910T180000
DTEND;TZID=UTC:20240910T200000
DTSTAMP:20260421T042433
CREATED:20240613T121504Z
LAST-MODIFIED:20241203T085609Z
UID:10000132-1725991200-1725998400@www.iueclocal7.org
SUMMARY:Executive Board Meeting
DESCRIPTION:
URL:https://www.iueclocal7.org/event/executive-board-meeting-2-2/2024-09-10/
LOCATION:Carney Rod & Gun Club\, 9721 Hilltop Drive\, Baltimore\, MD\, 21234\, United States
CATEGORIES:default
END:VEVENT
BEGIN:VEVENT
DTSTART;TZID=UTC:20240814T070000
DTEND;TZID=UTC:20240814T170000
DTSTAMP:20260421T042433
CREATED:20240726T143725Z
LAST-MODIFIED:20241203T092028Z
UID:10000264-1723618800-1723654800@www.iueclocal7.org
SUMMARY:Joint Apprenticeship Committe
DESCRIPTION:
URL:https://www.iueclocal7.org/event/joint-apprenticeship-committe/2024-08-14/
LOCATION:Union Hall on Georgetown Rd
CATEGORIES:default
END:VEVENT
BEGIN:VEVENT
DTSTART;TZID=UTC:20240808T180000
DTEND;TZID=UTC:20240808T200000
DTSTAMP:20260421T042433
CREATED:20240730T162723Z
LAST-MODIFIED:20250929T030414Z
UID:10000135-1723140000-1723147200@www.iueclocal7.org
SUMMARY:Union Meeting
DESCRIPTION:
URL:https://www.iueclocal7.org/event/union-meeting-2/2024-08-08/
LOCATION:Carney Rod & Gun Club\, 9721 Hilltop Drive\, Baltimore\, MD\, 21234\, United States
CATEGORIES:default
END:VEVENT
BEGIN:VEVENT
DTSTART;TZID=UTC:20240709T180000
DTEND;TZID=UTC:20240709T200000
DTSTAMP:20260421T042433
CREATED:20240613T121504Z
LAST-MODIFIED:20241203T085609Z
UID:10000130-1720548000-1720555200@www.iueclocal7.org
SUMMARY:Executive Board Meeting
DESCRIPTION:
URL:https://www.iueclocal7.org/event/executive-board-meeting-2-2/2024-07-09/
LOCATION:Carney Rod & Gun Club\, 9721 Hilltop Drive\, Baltimore\, MD\, 21234\, United States
CATEGORIES:default
END:VEVENT
END:VCALENDAR